BEGIN:VCALENDAR
VERSION:2.0
PRODID:-//https://2023.kiga-schwanfeld.de///NONSGML kigkonsult.se iCalcreator 2.10.15//
METHOD:PUBLISH
BEGIN:VEVENT
UID:20260420T172824CEST-72730unojX@https://2023.kiga-schwanfeld.de/
DTSTAMP:20260420T152824Z
DESCRIPTION: https://2023.kiga-schwanfeld.de/aktuelles/kalender/event/437-a
 bschlussfest-mit-anschliessendem-abschlussgottesdienst-fuer-die-vorschulki
 nder-14-30-uhr
DTSTART;VALUE=DATE:20250730
LOCATION:KiGa Schwanfeld (Adenauerpl. 8\, 97523 Schwanfeld\, Deutschland)
SUMMARY:Abschlussfest mit anschließendem Abschlussgottesdienst für die Vors
 chulkinder (14:30 Uhr)
URL:https://2023.kiga-schwanfeld.de/aktuelles/kalender/event/437-abschlussf
 est-mit-anschliessendem-abschlussgottesdienst-fuer-die-vorschulkinder-14-3
 0-uhr
END:VEVENT
END:VCALENDAR
